BEGIN:VCALENDAR
VERSION:2.0
PRODID:-//Great Wilbraham Parish Council//Meeting Calendar//EN
CALSCALE:GREGORIAN
METHOD:PUBLISH
BEGIN:VEVENT
UID:70470-20240326@greatwilbrahamparishcouncil.gov.uk
DTSTAMP:20260422T181252Z
DTSTART;VALUE=DATE:20240326
DTEND;VALUE=DATE:20240327
SUMMARY:Annual Parish Meeting &#8211\\; 26 March 2024
DESCRIPTION:Annual Parish Meeting\nView details: https://greatwilbrahamparishcouncil.gov.uk/meetings/annual-parish-meeting-26-march-2024/
URL:https://greatwilbrahamparishcouncil.gov.uk/meetings/annual-parish-meeting-26-march-2024/
END:VEVENT
END:VCALENDAR
