BEGIN:VCALENDAR
VERSION:2.0
PRODID:-//Great Wilbraham Parish Council//Meeting Calendar//EN
CALSCALE:GREGORIAN
METHOD:PUBLISH
BEGIN:VEVENT
UID:70494-20230330@greatwilbrahamparishcouncil.gov.uk
DTSTAMP:20260424T082803Z
DTSTART;VALUE=DATE:20230330
DTEND;VALUE=DATE:20230331
SUMMARY:Annual Parish Meeting &#8211\\; 30 March 2023
DESCRIPTION:Annual Parish Meeting\nView details: https://greatwilbrahamparishcouncil.gov.uk/meetings/annual-parish-meeting-30-march-2023/
URL:https://greatwilbrahamparishcouncil.gov.uk/meetings/annual-parish-meeting-30-march-2023/
END:VEVENT
END:VCALENDAR
