BEGIN:VCALENDAR
VERSION:2.0
PRODID:-//Great Wilbraham Parish Council//Meeting Calendar//EN
CALSCALE:GREGORIAN
METHOD:PUBLISH
BEGIN:VEVENT
UID:73794-20260526@greatwilbrahamparishcouncil.gov.uk
DTSTAMP:20260422T085355Z
DTSTART;VALUE=DATE:20260526
DTEND;VALUE=DATE:20260527
SUMMARY:Full Council Meeting &#8211\\; 26th May 2026
DESCRIPTION:Full Council Meeting\nView details: https://greatwilbrahamparishcouncil.gov.uk/meetings/full-council-meeting-26th-may-2026/
URL:https://greatwilbrahamparishcouncil.gov.uk/meetings/full-council-meeting-26th-may-2026/
END:VEVENT
END:VCALENDAR
